BEGIN:VCALENDAR
VERSION:2.0
PRODID:-//Waterfall Yoga LLC - ECPv6.15.20//NONSGML v1.0//EN
CALSCALE:GREGORIAN
METHOD:PUBLISH
X-WR-CALNAME:Waterfall Yoga LLC
X-ORIGINAL-URL:https://waterfallyogallc.com
X-WR-CALDESC:Events for Waterfall Yoga LLC
REFRESH-INTERVAL;VALUE=DURATION:PT1H
X-Robots-Tag:noindex
X-PUBLISHED-TTL:PT1H
BEGIN:VTIMEZONE
TZID:America/Chicago
BEGIN:DAYLIGHT
TZOFFSETFROM:-0600
TZOFFSETTO:-0500
TZNAME:CDT
DTSTART:20250309T080000
END:DAYLIGHT
BEGIN:STANDARD
TZOFFSETFROM:-0500
TZOFFSETTO:-0600
TZNAME:CST
DTSTART:20251102T070000
END:STANDARD
BEGIN:DAYLIGHT
TZOFFSETFROM:-0600
TZOFFSETTO:-0500
TZNAME:CDT
DTSTART:20260308T080000
END:DAYLIGHT
BEGIN:STANDARD
TZOFFSETFROM:-0500
TZOFFSETTO:-0600
TZNAME:CST
DTSTART:20261101T070000
END:STANDARD
BEGIN:DAYLIGHT
TZOFFSETFROM:-0600
TZOFFSETTO:-0500
TZNAME:CDT
DTSTART:20270314T080000
END:DAYLIGHT
BEGIN:STANDARD
TZOFFSETFROM:-0500
TZOFFSETTO:-0600
TZNAME:CST
DTSTART:20271107T070000
END:STANDARD
END:VTIMEZONE
BEGIN:VEVENT
DTSTART;TZID=America/Chicago:20261009T190000
DTEND;TZID=America/Chicago:20261011T110000
DTSTAMP:20260422T173610
CREATED:20260406T175835Z
LAST-MODIFIED:20260406T175835Z
UID:6400-1791572400-1791716400@waterfallyogallc.com
SUMMARY:Nourished Soul Retreat
DESCRIPTION:A nurturing weekend in nature in the Tennessee Valley outside of Huntsville Alabama. Immerse yourself in a supportive and serene environment\, where you can rejuvenate your mind\, body\, and spirit.  Nourished Soul Retreat offers practices in gentle somatic movements plus breathwork and meditation and much more all with a beautiful view.  Healthy lunch and dinner on Saturday catered by a private chef to fit your dietary needs\, a meditative labyrinth walk\, forest bathing (shrin-rin-yoku) and hikes to our natural waterfall.  You’ll leave uplifted\, grounded\, and in tune with nature.  It’s a restorative weekend of movement and quiet stillness.  Unique experiences you won’t soon forget. Space is limited. \nCost: $399/person \nWhat’s included for $399: \n\nGuided weekend activities to include somatic movement classes\, breathing\, meditation Friday through Sunday\nForest bathing\nLunch and dinner Saturday catered \nSaturday fire pit and stargazing (weather permitting)\nCoffee/tea/water duration of retreat\nLight snacks and breakfast options available throughout retreat\n\nWhat’s Not Included for $399 \n\nLodging and additional meals\nOptional on-site Massages\nPrivate yoga therapy coaching\nSteam room with Aromatherapy\n\nLodging Options:\nAvailable options for onsite lodging are now available. Call 256-299-9269 to book your overnight stay or email \n 
URL:https://waterfallyogallc.com/event/nourished-soul-retreat/
LOCATION:Waterfall Yoga Therapy Retreat Center
CATEGORIES:Retreat
ATTACH;FMTTYPE=image/webp:https://waterfallyogallc.com/wp-content/uploads/2024/11/cropped-20230508_111841-scaled-e1684778647433-11.webp
END:VEVENT
END:VCALENDAR